BEGIN:VCALENDAR
VERSION:2.0
PRODID:-// eRoom plugin //NONSGML v1.0//EN
CALSCALE:GREGORIAN
BEGIN:VEVENT
UID:eRoom-1776808049
SUMMARY:Kleingruppe 30.1.
LOCATION:Zoom
DESCRIPTION:Kleingruppe 30.1. is inviting you to a scheduled Zoom meeting.
 \n\nJoin Zoom Meeting\nhttps://us06web.zoom.us/j/82713938692?pwd=lb6qaO8AJ
 ONaDUpf7SHbT030x3xQh2.1\n\nMeeting ID: 82713938692\nPasscode: 143589\n
URL;VALUE=URI:https://us06web.zoom.us/j/82713938692?pwd=lb6qaO8AJONaDUpf7SHbT030x3xQh2.1
DTSTART:20250130T083000Z
DTEND:20250130T133000Z
DTSTAMP:20260421T214729Z
BEGIN:VALARM
ACTION:DISPLAY
DESCRIPTION:Reminder
TRIGGER;RELATED=START:-PT15M
END:VALARM
END:VEVENT
END:VCALENDAR