BEGIN:VCALENDAR
VERSION:2.0
PRODID:-// eRoom plugin //NONSGML v1.0//EN
CALSCALE:GREGORIAN
BEGIN:VEVENT
UID:eRoom-1776808348
SUMMARY:Kleingruppe 1.2.
LOCATION:Zoom
DESCRIPTION:Kleingruppe 1.2. is inviting you to a scheduled Zoom meeting.\n
 \nJoin Zoom Meeting\nhttps://us06web.zoom.us/j/85254620814?pwd=iWFuzu6ILFA
 Jm0pD0NIrCPjZWyCuhI.1\n\nMeeting ID: 85254620814\nPasscode: 418929\n
URL;VALUE=URI:https://us06web.zoom.us/j/85254620814?pwd=iWFuzu6ILFAJm0pD0NIrCPjZWyCuhI.1
DTSTART:20250201T130000Z
DTEND:20250201T180000Z
DTSTAMP:20260421T215228Z
BEGIN:VALARM
ACTION:DISPLAY
DESCRIPTION:Reminder
TRIGGER;RELATED=START:-PT15M
END:VALARM
END:VEVENT
END:VCALENDAR