BEGIN:VCALENDAR
VERSION:2.0
PRODID:-// eRoom plugin //NONSGML v1.0//EN
CALSCALE:GREGORIAN
BEGIN:VEVENT
UID:eRoom-1776813603
SUMMARY:Brainstorming für Anfänger 6.2.25
LOCATION:Zoom
DESCRIPTION:Brainstorming umfasst viele verschiedene Varianten\, welche das
  sind und wofür man sie verwendet erfährst du hier.\n\n---\n\nBrainstorm
 ing für Anfänger 6.2.25 is inviting you to a scheduled Zoom meeting.\n\n
 Join Zoom Meeting\nhttps://us06web.zoom.us/j/84655089207\n\nMeeting ID: 84
 655089207\n
URL;VALUE=URI:https://us06web.zoom.us/j/84655089207
DTSTART:20250206T150000Z
DTEND:20250206T160000Z
DTSTAMP:20260421T232003Z
BEGIN:VALARM
ACTION:DISPLAY
DESCRIPTION:Reminder
TRIGGER;RELATED=START:-PT15M
END:VALARM
END:VEVENT
END:VCALENDAR