BEGIN:VCALENDAR
VERSION:2.0
PRODID:-//wp-events-plugin.com//7.2.3.1//EN
BEGIN:VEVENT
UID:2@kunstseminar-online.de
DTSTART;TZID=Europe/Berlin:20250126T103000
DTEND;TZID=Europe/Berlin:20250126T173000
DTSTAMP:20250125T211648Z
URL:https://kunstseminar-online.de/events/test/
SUMMARY:test
DESCRIPTION:tessdg
ATTACH;FMTTYPE=image/jpeg:https://kunstseminar-online.de/wp-content/upload
 s/2025/01/cropped-Depositphotos_259155006_XL-scaled-1.jpg
CATEGORIES:Kleingruppenarbeit
LOCATION:https://kunstseminar-online.de/stm-zoom/mein-meeting/
END:VEVENT
BEGIN:VTIMEZONE
TZID:Europe/Berlin
X-LIC-LOCATION:Europe/Berlin
BEGIN:STANDARD
DTSTART:20241027T020000
TZOFFSETFROM:+0200
TZOFFSETTO:+0100
TZNAME:CET
END:STANDARD
END:VTIMEZONE
END:VCALENDAR