BEGIN:VCALENDAR
VERSION:2.0
PRODID:-//wp-events-plugin.com//7.2.3.1//EN
BEGIN:VEVENT
UID:8@kunstseminar-online.de
DTSTART;VALUE=DATE:20250214
DTEND;VALUE=DATE:20250217
DTSTAMP:20250201T083939Z
URL:https://kunstseminar-online.de/events/seminar-kreative-therapie/
SUMMARY:Seminar Kreative Therapie Block 2
DESCRIPTION:Geschlossene Gruppe keine Anmeldung Möglich
ATTACH;FMTTYPE=image/jpeg:https://kunstseminar-online.de/wp-content/upload
 s/2025/01/Firefly-mehrere-Personen-mit-einem-Lehrer-der-ein-Mindmap-zum-th
 ema-Kreativitaet-an-die-Tafel-zeichne.jpg
CATEGORIES:Eigene Ausbildungsseminare
END:VEVENT
END:VCALENDAR