BEGIN:VCALENDAR
VERSION:2.0
PRODID:-//wp-events-plugin.com//7.2.3.1//EN
BEGIN:VEVENT
UID:10@kunstseminar-online.de
DTSTART:20250410T230000Z
DTEND:20250412T230000Z
DTSTAMP:20250201T083901Z
URL:https://kunstseminar-online.de/events/seminar-kreative-therapie-block-
 4/
SUMMARY:Seminar Kreative Therapie Block 4
DESCRIPTION:geschlossene Gruppe\, keine Anmeldung Möglich
ATTACH;FMTTYPE=image/jpeg:https://kunstseminar-online.de/wp-content/upload
 s/2025/01/Firefly-mehrere-Personen-mit-einem-Lehrer-der-ein-Mindmap-zum-th
 ema-Kreativitaet-an-die-Tafel-zeichne.jpg
CATEGORIES:Eigene Ausbildungsseminare
END:VEVENT
END:VCALENDAR