BEGIN:VCALENDAR
VERSION:2.0
PRODID:-//wp-events-plugin.com//7.2.3.1//EN
BEGIN:VEVENT
UID:27@kunstseminar-online.de
DTSTART;VALUE=DATE:20250526
DTEND;VALUE=DATE:20250527
DTSTAMP:20250201T090837Z
URL:https://kunstseminar-online.de/events/seminar-anatomie-des-nervensyste
 ms/
SUMMARY:Seminar Anatomie des Nervensystems
DESCRIPTION:geschlossene Gruppe\, keine Anmeldung Möglich
ATTACH;FMTTYPE=image/jpeg:https://kunstseminar-online.de/wp-content/upload
 s/2025/02/Firefly-Anatomie-des-Nervensystems-17458.jpg
CATEGORIES:Eigene Ausbildungsseminare
END:VEVENT
END:VCALENDAR