BEGIN:VCALENDAR
VERSION:2.0
PRODID:-//wp-events-plugin.com//7.2.3.1//EN
BEGIN:VEVENT
UID:4@kunstseminar-online.de
DTSTART;TZID=Europe/Berlin:20250130T093000
DTEND;TZID=Europe/Berlin:20250130T130000
DTSTAMP:20250126T151239Z
URL:https://kunstseminar-online.de/events/kleingruppe-30-1-25/
SUMMARY:Kleingruppe 30.1.25
DESCRIPTION:Kleingruppe des Kurses kreative Therapie\n\nÜbungen zur Kommun
 ikation\n\n 	Beispiele aus dem Beruflichen und/oder privaten Alltag finden
  und das Kommunikationsmodell von Friedemann Schulz von Thun anwenden Beob
 achtung und Reflektion\n 	Reflektion von Rollen in Alltag und Beruf Nimm v
 erschiedene Rollen. dabei übernimmt einer die Regeln eines vorgestellten 
 KOmmunikationsmodells. Ein Supervisor beobachtet die Spielenden. Am Ende w
 ird die Situation ausgewertet\, was war leicht was problematischt\n\nPetra
 /Mirella
ATTACH;FMTTYPE=image/jpeg:https://kunstseminar-online.de/wp-content/upload
 s/2025/01/Depositphotos_55352687_S-e1737907815732.jpg
CATEGORIES:Kleingruppenarbeit
LOCATION:https://kunstseminar-online.de/stm-zoom/kleingruppe-30-1/
END:VEVENT
BEGIN:VTIMEZONE
TZID:Europe/Berlin
X-LIC-LOCATION:Europe/Berlin
BEGIN:STANDARD
DTSTART:20241027T020000
TZOFFSETFROM:+0200
TZOFFSETTO:+0100
TZNAME:CET
END:STANDARD
END:VTIMEZONE
END:VCALENDAR