BEGIN:VCALENDAR
VERSION:2.0
PRODID:-//wp-events-plugin.com//7.2.3.1//EN
BEGIN:VEVENT
UID:5@kunstseminar-online.de
DTSTART;TZID=Europe/Berlin:20250201T140000
DTEND;TZID=Europe/Berlin:20250201T183000
DTSTAMP:20250201T080736Z
URL:https://kunstseminar-online.de/events/kleingruppe-1-2-25/
SUMMARY:Kleingruppe 1.2.25
DESCRIPTION:Kleingruppe des Kurses Kreative Therapien\n\nThema Kreativität
  /Kommunikationsmodelle\n\nAngemeldete Teilnehmer Rebecca und Petra
ATTACH;FMTTYPE=image/jpeg:https://kunstseminar-online.de/wp-content/upload
 s/2025/01/Depositphotos_94354992_S-e1737908184598.jpg
CATEGORIES:Kleingruppenarbeit
LOCATION:https://kunstseminar-online.de/stm-zoom/kleingruppe-1-2/
END:VEVENT
BEGIN:VTIMEZONE
TZID:Europe/Berlin
X-LIC-LOCATION:Europe/Berlin
BEGIN:STANDARD
DTSTART:20241027T020000
TZOFFSETFROM:+0200
TZOFFSETTO:+0100
TZNAME:CET
END:STANDARD
END:VTIMEZONE
END:VCALENDAR