BEGIN:VCALENDAR
VERSION:2.0
PRODID:-//wp-events-plugin.com//7.2.3.1//EN
BEGIN:VEVENT
UID:7@kunstseminar-online.de
DTSTART;TZID=Europe/Berlin:20250206T160000
DTEND;TZID=Europe/Berlin:20250206T180000
DTSTAMP:20250128T155651Z
URL:https://kunstseminar-online.de/events/brainstorming-fuer-anfaenger/
SUMMARY:Brainstorming für Anfänger
DESCRIPTION:Brainstorming ist ein Überbegriff über eine Gruppe von Kreati
 vitäts Techniken. In dem Meeting lernen wir verschiedene Vertreter kennen
 \, sprechen über ihre Verwendung allein und in der Gruppe und die potenti
 ellen Prozesse in denen die Methoden angewandt werden können.\n\nWenn Du 
 teilnehmen möchtest klicke auf Teilnehmen. Auf der folgenden Seite kannst
  du dir aussuchen ob du die Zoom App benutzen möchtest oder per Browser t
 eilnehmen willst.\n\n\n\n/* widget: Timer Countdown */\n#uc_timer_countdow
 n_elementor_6b4b1a56 *\n{\n  box-sizing:border-box\;\n}\n#uc_timer_countdo
 wn_elementor_6b4b1a56-wrapper\n{\n  min-height:1px\;\n}\n#uc_timer_countdo
 wn_elementor_6b4b1a56\n{\n  display:flex\;\n  flex-wrap: wrap\;\n  margin:
 0 auto\;\n}\n#uc_timer_countdown_elementor_6b4b1a56 .uc_countdown_section\
 n{\n  flex:1\;\n  clip-path: polygon(0 0\, 100% 0\, 100% 100%\, 0% 100%)\;
 \n}\n.uc_countdown_amount\n{\nfont-size:42px\;\n}\n#uc_timer_countdown_ele
 mentor_6b4b1a56 .uc_countdown_section .uc_countdown_amount\n{\n  backgroun
 d-color:rgba(255\, 255\, 255\, 0)\;\n  padding:0px\;\n  display:block\;\n}
 \n#uc_timer_countdown_elementor_6b4b1a56 .uc_countdown_section .uc_countdo
 wn_period\n{\n  background-color:rgba(255\, 255\, 255\, 0)\;\n  padding:0p
 x\;\n  display:block\;\n  line-height:1em\;\n}\n#uc_timer_countdown_elemen
 tor_6b4b1a56 .uc_countdown_section .spacer\n{\n  height:10px\;\n}\n#uc_tim
 er_countdown_elementor_6b4b1a56 .uc_countdown_section.days\n{\n  display:b
 lock\;\n}\n#uc_timer_countdown_elementor_6b4b1a56 .uc_countdown_section.ho
 urs\n{\n  display:block\;\n}\n#uc_timer_countdown_elementor_6b4b1a56 .uc_c
 ountdown_section.minutes\n{\n  display:block\;\n}\n#uc_timer_countdown_ele
 mentor_6b4b1a56 .uc_countdown_section.seconds\n{\n  display:block\;\n}\n\n
 \n\n\nTeilnehmen\n
ATTACH;FMTTYPE=image/jpeg:https://kunstseminar-online.de/wp-content/upload
 s/2025/01/Firefly-Eine-Gruppe-von-Menschen-beim-Brainstorming-29357.jpg
CATEGORIES:Kreativitätsmeeting
END:VEVENT
BEGIN:VTIMEZONE
TZID:Europe/Berlin
X-LIC-LOCATION:Europe/Berlin
BEGIN:STANDARD
DTSTART:20241027T020000
TZOFFSETFROM:+0200
TZOFFSETTO:+0100
TZNAME:CET
END:STANDARD
END:VTIMEZONE
END:VCALENDAR